BEGIN:VCALENDAR
VERSION:2.0
PRODID:-//Ortsseniorenrat Tuttlingen e.V. - ECPv6.15.20//NONSGML v1.0//EN
CALSCALE:GREGORIAN
METHOD:PUBLISH
X-WR-CALNAME:Ortsseniorenrat Tuttlingen e.V.
X-ORIGINAL-URL:https://ortsseniorenrat-tuttlingen-ev.de
X-WR-CALDESC:Veranstaltungen für Ortsseniorenrat Tuttlingen e.V.
REFRESH-INTERVAL;VALUE=DURATION:PT1H
X-Robots-Tag:noindex
X-PUBLISHED-TTL:PT1H
BEGIN:VTIMEZONE
TZID:Europe/Berlin
BEGIN:DAYLIGHT
TZOFFSETFROM:+0100
TZOFFSETTO:+0200
TZNAME:CEST
DTSTART:20250330T010000
END:DAYLIGHT
BEGIN:STANDARD
TZOFFSETFROM:+0200
TZOFFSETTO:+0100
TZNAME:CET
DTSTART:20251026T010000
END:STANDARD
BEGIN:DAYLIGHT
TZOFFSETFROM:+0100
TZOFFSETTO:+0200
TZNAME:CEST
DTSTART:20260329T010000
END:DAYLIGHT
BEGIN:STANDARD
TZOFFSETFROM:+0200
TZOFFSETTO:+0100
TZNAME:CET
DTSTART:20261025T010000
END:STANDARD
BEGIN:DAYLIGHT
TZOFFSETFROM:+0100
TZOFFSETTO:+0200
TZNAME:CEST
DTSTART:20270328T010000
END:DAYLIGHT
BEGIN:STANDARD
TZOFFSETFROM:+0200
TZOFFSETTO:+0100
TZNAME:CET
DTSTART:20271031T010000
END:STANDARD
END:VTIMEZONE
BEGIN:VEVENT
DTSTART;VALUE=DATE:20260520
DTEND;VALUE=DATE:20260521
DTSTAMP:20260420T024216
CREATED:20260413T132224Z
LAST-MODIFIED:20260413T134553Z
UID:1509-1779235200-1779321599@ortsseniorenrat-tuttlingen-ev.de
SUMMARY:Besuch der Marienschlucht
DESCRIPTION:
URL:https://ortsseniorenrat-tuttlingen-ev.de/event/besuch-der-marienschlucht/
ATTACH;FMTTYPE=image/jpeg:https://ortsseniorenrat-tuttlingen-ev.de/wp-content/uploads/2026/04/Marienschlucht.jpg
END:VEVENT
BEGIN:VEVENT
DTSTART;VALUE=DATE:20260624
DTEND;VALUE=DATE:20260625
DTSTAMP:20260420T024216
CREATED:20260413T134950Z
LAST-MODIFIED:20260413T134950Z
UID:1524-1782259200-1782345599@ortsseniorenrat-tuttlingen-ev.de
SUMMARY:Ausfahrt nach Meersburg
DESCRIPTION:
URL:https://ortsseniorenrat-tuttlingen-ev.de/event/ausfahrt-nach-meersburg/
ATTACH;FMTTYPE=image/jpeg:https://ortsseniorenrat-tuttlingen-ev.de/wp-content/uploads/2026/04/Meesburg.jpg
END:VEVENT
BEGIN:VEVENT
DTSTART;VALUE=DATE:20260708
DTEND;VALUE=DATE:20260709
DTSTAMP:20260420T024216
CREATED:20260413T135434Z
LAST-MODIFIED:20260413T135434Z
UID:1528-1783468800-1783555199@ortsseniorenrat-tuttlingen-ev.de
SUMMARY:Besuch MAC2-Museum Art & Cars Singen
DESCRIPTION:
URL:https://ortsseniorenrat-tuttlingen-ev.de/event/besuch-mac2-museum-art-cars-singen/
ATTACH;FMTTYPE=image/jpeg:https://ortsseniorenrat-tuttlingen-ev.de/wp-content/uploads/2026/04/mac_singen.jpg
END:VEVENT
END:VCALENDAR